BEGIN:VCALENDAR
VERSION:2.0
PRODID:-//Steve Hoffacker LLC - ECPv6.15.20//NONSGML v1.0//EN
CALSCALE:GREGORIAN
METHOD:PUBLISH
X-WR-CALNAME:Steve Hoffacker LLC
X-ORIGINAL-URL:https://www.stevehoffacker.com
X-WR-CALDESC:Events for Steve Hoffacker LLC
REFRESH-INTERVAL;VALUE=DURATION:PT1H
X-Robots-Tag:noindex
X-PUBLISHED-TTL:PT1H
BEGIN:VTIMEZONE
TZID:America/New_York
BEGIN:DAYLIGHT
TZOFFSETFROM:-0500
TZOFFSETTO:-0400
TZNAME:EDT
DTSTART:20250309T070000
END:DAYLIGHT
BEGIN:STANDARD
TZOFFSETFROM:-0400
TZOFFSETTO:-0500
TZNAME:EST
DTSTART:20251102T060000
END:STANDARD
BEGIN:DAYLIGHT
TZOFFSETFROM:-0500
TZOFFSETTO:-0400
TZNAME:EDT
DTSTART:20260308T070000
END:DAYLIGHT
BEGIN:STANDARD
TZOFFSETFROM:-0400
TZOFFSETTO:-0500
TZNAME:EST
DTSTART:20261101T060000
END:STANDARD
BEGIN:DAYLIGHT
TZOFFSETFROM:-0500
TZOFFSETTO:-0400
TZNAME:EDT
DTSTART:20270314T070000
END:DAYLIGHT
BEGIN:STANDARD
TZOFFSETFROM:-0400
TZOFFSETTO:-0500
TZNAME:EST
DTSTART:20271107T060000
END:STANDARD
END:VTIMEZONE
BEGIN:VEVENT
DTSTART;TZID=America/New_York:20260420T090000
DTEND;TZID=America/New_York:20260420T160000
DTSTAMP:20260420T093522
CREATED:20260210T221014Z
LAST-MODIFIED:20260214T162631Z
UID:10001791-1776675600-1776700800@www.stevehoffacker.com
SUMMARY:CAPS I Live Online – “Marketing & Communicating With The Aging In Place Client”
DESCRIPTION:
URL:https://www.stevehoffacker.com/class/caps-i-live-online-marketing-communicating-with-the-aging-in-place-client-14/
LOCATION:Online – Logon Credentials To Be Supplied\, United States
CATEGORIES:CAPS I
ORGANIZER;CN="Steve Hoffacker":MAILTO:steve@stevehoffacker.com
END:VEVENT
END:VCALENDAR